{"text_format":"3","workbook":"xlsx","n_sheets":5,"sheets":["Semaine","Lundi","Mardi","Jeudi","Vendredi"],"read":"whole","date_system":"1900"}

{"sheet":"Semaine","index":0,"n_rows":19,"n_cols":9,"rows_kept":19,"merged":[[0,3,0,6],[1,3,1,6],[6,1,6,8],[9,1,9,8],[12,1,12,8],[15,1,15,8],[18,1,18,8]]}
["Nom",null,null,{"$f":"\"Semaine du \"&TEXT(C4, \"j mmmm\")&\" au \"&TEXT(I4, \"j mmmm aaaa\")","v":"Semaine du 2 septembre au 6 septembre 2013"},{"$nulls":4},"Classe de CE1"]
["Prénom",null,null,"Période 1 semaine n° 1",{"$nulls":4},"nom de l'école"]
[]
[null,"Lundi","2013-09-02","Mardi",{"$f":"C4+1","v":"2013-09-03"},"Jeudi",{"$f":"E4+2","v":"2013-09-05"},"Vendredi",{"$f":"G4+1","v":"2013-09-06"}]
[null,"Matières","Activités","Matières","Activités","Matières","Activités","Matières","Activités"]
["8h20-8h50","APC",null,"APC",null,"APC"]
["9h-9h15","Accueil, appel, cantine, date, organisation"]
["9h15-10h","Lecture",null,"Maths",null,"Lecture",null,"Maths"]
["10h-10h45","Maths",null,"EDL",null,"écriture",null,"EDL"]
["10h45-11h","Récréation"]
["11h-11h30","Orthographe",null,"Maths (problèmes)",null,"EPS",null,"Orthographe (dictée)"]
["11h30-12h","Orthographe",null,"écriture",{"$nulls":3},"Anglais"]
["12h-13h30","Repas et récréation"]
["13h30-14h15","Contrat de travail",null,"Littérature",null,"Maths",null,"contrat de travail"]
["14h15-15h","EPS",null,"Anglais",null,"contrat de travail",null,"Arts visuels"]
["15h-15h15","Récréation"]
["15h15-15h45","DDM",null,"DDM",null,"Poésie",null,"Bibliothèque / lecture"]
["15h45-16h15",null,null,"contrat de travail",null,"DDM",null,"Littérature / projets"]
["16h15-16h30","Rangement + ce que j'ai appris / lecture offerte"]

{"sheet":"Lundi","index":1,"n_rows":24,"n_cols":5,"rows_kept":24,"merged":[[0,2,1,3],[2,2,2,3],[9,1,9,4],[12,1,12,4],[15,1,15,4],[17,1,17,4],[18,1,18,4],[20,1,20,4],[21,1,21,4],[23,1,23,4],[24,1,24,4]]}
[{"$f":"Semaine!A1","v":"Nom"},null,{"$f":"Semaine!C4","v":"2013-09-02"},null,{"$f":"Semaine!I1","v":"Classe de CE1"}]
[{"$f":"Semaine!A2","v":"Prénom"},{"$nulls":3},{"$f":"Semaine!I2","v":"nom de l'école"}]
[null,null,{"$f":"Semaine!D2","v":"Période 1 semaine n° 1"}]
[null,"Matières","Objectif / Fiche de prep","Détails","Matériel / Outils"]
["8h20",{"$f":"Semaine!B6","v":"APC"},{"$f":"Semaine!C6","v":0},null,"● "]
["9h00","Accueil et rituel","Appel, cantine, menu, date"]
["9h15","rituel","écrire des phrases en utilisant ses connaissances","rituel #bonjour"]
[null,{"$f":"Semaine!B8","v":"Lecture"},{"$f":"Semaine!C8","v":0}]
["10h",{"$f":"Semaine!B9","v":"Maths"},{"$f":"Semaine!C9","v":0}]
["10h45","Récréation"]
["11h",{"$f":"Semaine!B11","v":"Orthographe"},{"$f":"Semaine!C11","v":0}]
["11h30",{"$f":"Semaine!B12","v":"Orthographe"},{"$f":"Semaine!C12","v":0}]
["12h","Repas et récréation"]
["13h30",{"$f":"Semaine!B14","v":"Contrat de travail"},{"$f":"Semaine!C14","v":0}]
["14h15",{"$f":"Semaine!B15","v":"EPS"},{"$f":"Semaine!C15","v":0}]
["15h","Récréation"]
["15h15",{"$f":"Semaine!B17","v":"DDM"},{"$f":"Semaine!C17","v":0}]
["16h15","Rangement + ce que j'ai appris / lecture offerte"]
["16h30","Sortie"]
[]
[null,"devoirs à ajouter"]
[null,"Pour  :\n"]
[]
[null,"Observations"]

{"sheet":"Mardi","index":2,"n_rows":25,"n_cols":5,"rows_kept":25,"merged":[[0,2,1,3],[2,2,2,3],[9,1,9,4],[12,1,12,4],[15,1,15,4],[18,1,18,4],[19,1,19,4],[21,1,21,4],[22,1,22,4],[24,1,24,4],[25,1,25,4]]}
[{"$f":"Semaine!A1","v":"Nom"},null,{"$f":"Semaine!E4","v":"2013-09-03"},null,{"$f":"Semaine!I1","v":"Classe de CE1"}]
[{"$f":"Semaine!A2","v":"Prénom"},{"$nulls":3},{"$f":"Semaine!I2","v":"nom de l'école"}]
[null,null,{"$f":"Semaine!D2","v":"Période 1 semaine n° 1"}]
[null,"Matières","Objectif / Fiche de prep","Détails","Matériel / Outils"]
["8h20",{"$f":"Semaine!D6","v":"APC"},{"$f":"Semaine!E6","v":0},null,"● "]
["9h00","Accueil et rituel","Appel, cantine, menu, date"]
["9h15","rituel","écrire des phrases en utilisant ses connaissances",null,"● ardoise"]
["9h30",{"$f":"Semaine!D8","v":"Maths"},{"$f":"Semaine!E8","v":0}]
["10h15",{"$f":"Semaine!D9","v":"EDL"},{"$f":"Semaine!E9","v":0}]
["10h45","Récréation"]
["11h",{"$f":"Semaine!D11","v":"Maths (problèmes)"},{"$f":"Semaine!E11","v":0}]
["11h30",{"$f":"Semaine!D12","v":"écriture"},{"$f":"Semaine!E12","v":0}]
["12h","Repas et récréation"]
["13h30",{"$f":"Semaine!D14","v":"Littérature"},{"$f":"Semaine!E14","v":0}]
["14h15",{"$f":"Semaine!D15","v":"Anglais"},{"$f":"Semaine!E15","v":0}]
["15h","Récréation"]
["15h15",{"$f":"Semaine!D17","v":"DDM"},{"$f":"Semaine!E17","v":0}]
["15h45",{"$f":"Semaine!D18","v":"contrat de travail"},{"$f":"Semaine!E18","v":0}]
["16h15","Rangement + ce que j'ai appris / lecture offerte"]
["16h30","Sortie"]
[]
[null,"devoirs à ajouter"]
[null,"Pour  :\n"]
[]
[null,"Observations"]

{"sheet":"Jeudi","index":3,"n_rows":23,"n_cols":5,"rows_kept":23,"merged":[[0,2,1,3],[2,2,2,3],[10,1,10,4],[13,1,13,4],[16,1,16,4],[17,1,17,4],[19,1,19,4],[20,1,20,4],[22,1,22,4],[23,1,23,4]]}
[{"$f":"Semaine!A1","v":"Nom"},null,{"$f":"Semaine!G4","v":"2013-09-05"},null,{"$f":"Semaine!I1","v":"Classe de CE1"}]
[{"$f":"Semaine!A2","v":"Prénom"},{"$nulls":3},{"$f":"Semaine!I2","v":"nom de l'école"}]
[null,null,{"$f":"Semaine!D2","v":"Période 1 semaine n° 1"}]
[null,"Matières","Objectif / Fiche de prep","Détails","Matériel / Outils"]
["8h20",{"$f":"Semaine!F6","v":"APC"},{"$f":"Semaine!G6","v":0},null,"● "]
["9h00","Accueil et rituel","Appel, cantine, menu, date"]
["9h15","rituel","mémoriser les mots de la semaine","exercices fiche ","● fiches exercices"]
["9h30",{"$f":"Semaine!F8","v":"Lecture"},{"$f":"Semaine!G8","v":0}]
["10h",{"$f":"Semaine!F9","v":"écriture"},{"$f":"Semaine!G9","v":0}]
["10h30",{"$f":"Semaine!F11","v":"EPS"},{"$f":"Semaine!G11","v":0}]
["12h","Repas et récréation"]
["13h30",{"$f":"Semaine!F14","v":"Maths"},{"$f":"Semaine!G14","v":0}]
["14h15",{"$f":"Semaine!F15","v":"contrat de travail"},{"$f":"Semaine!G15","v":0}]
["15h","Récréation"]
["15h15",{"$f":"Semaine!F17","v":"Poésie"},{"$f":"Semaine!G17","v":0}]
["15h45",{"$f":"Semaine!F18","v":"DDM"},{"$f":"Semaine!G18","v":0}]
["16h15","Rangement + ce que j'ai appris / lecture offerte"]
["16h30","Sortie"]
[]
[null,"devoirs à ajouter"]
[null,"Pour  :\n"]
[]
[null,"Observations"]

{"sheet":"Vendredi","index":4,"n_rows":24,"n_cols":5,"rows_kept":24,"merged":[[0,2,1,3],[2,2,2,3],[8,1,8,4],[11,1,11,4],[14,1,14,4],[17,1,17,4],[18,1,18,4],[20,1,20,4],[21,1,21,4],[23,1,23,4],[24,1,24,4]]}
[{"$f":"Semaine!A1","v":"Nom"},null,{"$f":"Semaine!I4","v":"2013-09-06"},null,{"$f":"Semaine!I1","v":"Classe de CE1"}]
[{"$f":"Semaine!A2","v":"Prénom"},{"$nulls":3},{"$f":"Semaine!I2","v":"nom de l'école"}]
[null,null,{"$f":"Semaine!D2","v":"Période 1 semaine n° 1"}]
[null,"Matières","Objectif / Fiche de prep","Détails","Matériel / Outils"]
["9h00","Accueil et rituel","Appel, cantine, menu, date"]
["9h15","rituel","calcul rapide (voir programmation)","fiche ","● fiche"]
["9h30",{"$f":"Semaine!H8","v":"Maths"},{"$f":"Semaine!I8","v":0},null,"● "]
["10h",{"$f":"Semaine!H9","v":"EDL"},{"$f":"Semaine!I9","v":0}]
["10h45","Récréation"]
["11h",{"$f":"Semaine!H11","v":"Orthographe (dictée)"},{"$f":"Semaine!I11","v":0}]
["11h30",{"$f":"Semaine!H12","v":"Anglais"},{"$f":"Semaine!I12","v":0}]
["12h","Repas et récréation"]
["13h30",{"$f":"Semaine!H14","v":"contrat de travail"},{"$f":"Semaine!I14","v":0}]
["14h15",{"$f":"Semaine!H15","v":"Arts visuels"},{"$f":"Semaine!I15","v":0}]
["15h","Récréation"]
["15h15",{"$f":"Semaine!H17","v":"Bibliothèque / lecture"},{"$f":"Semaine!I17","v":0}]
["15h45",{"$f":"Semaine!H18","v":"Littérature / projets"},{"$f":"Semaine!I18","v":0}]
["16h15","Rangement + ce que j'ai appris / lecture offerte"]
["16h30","Sortie"]
[]
[null,"devoirs à ajouter"]
[null,"Pour  :\n"]
[]
[null,"Observations"]